Workbook
Name \0: #REF!
Name \0: #REF!
Name \0: #REF!
Name ___esc15: #REF!
Name ___esc4: #REF!
Name ___esc6: #REF!
Name __bookmark_1: COTAÇÕES!#REF!
Name __bookmark_1: COTAÇÕES!#REF!
Name __bookmark_10: COTAÇÕES!#REF!
Name __bookmark_10: COTAÇÕES!#REF!
Name __bookmark_11: COTAÇÕES!#REF!
Name __bookmark_11: COTAÇÕES!#REF!
Name __bookmark_12: COTAÇÕES!#REF!
Name __bookmark_12: COTAÇÕES!#REF!
Name __bookmark_13: COTAÇÕES!#REF!
Name __bookmark_13: COTAÇÕES!#REF!
Name __bookmark_14: COTAÇÕES!#REF!
Name __bookmark_14: COTAÇÕES!#REF!
Name __bookmark_15: COTAÇÕES!#REF!
Name __bookmark_15: COTAÇÕES!#REF!
Name __bookmark_16: COTAÇÕES!#REF!
Name __bookmark_16: COTAÇÕES!#REF!
Name __bookmark_17: COTAÇÕES!#REF!
Name __bookmark_17: COTAÇÕES!#REF!
Name __bookmark_18: COTAÇÕES!#REF!
Name __bookmark_18: COTAÇÕES!#REF!
Name __bookmark_19: COTAÇÕES!#REF!
Name __bookmark_19: COTAÇÕES!#REF!
Name __bookmark_2: COTAÇÕES!#REF!
Name __bookmark_2: COTAÇÕES!#REF!
Name __bookmark_20: COTAÇÕES!#REF!
Name __bookmark_20: COTAÇÕES!#REF!
Name __bookmark_21: COTAÇÕES!#REF!
Name __bookmark_21: COTAÇÕES!#REF!
Name __bookmark_22: COTAÇÕES!#REF!
Name __bookmark_22: COTAÇÕES!#REF!
Name __bookmark_23: COTAÇÕES!#REF!
Name __bookmark_23: COTAÇÕES!#REF!
Name __bookmark_24: COTAÇÕES!#REF!
Name __bookmark_24: COTAÇÕES!#REF!
Name __bookmark_25: COTAÇÕES!#REF!
Name __bookmark_25: COTAÇÕES!#REF!
Name __bookmark_26: COTAÇÕES!#REF!
Name __bookmark_26: COTAÇÕES!#REF!
Name __bookmark_27: COTAÇÕES!#REF!
Name __bookmark_27: COTAÇÕES!#REF!
Name __bookmark_28: COTAÇÕES!#REF!
Name __bookmark_28: COTAÇÕES!#REF!
Name __bookmark_29: COTAÇÕES!#REF!
Name __bookmark_29: COTAÇÕES!#REF!
Name __bookmark_3: COTAÇÕES!#REF!
Name __bookmark_3: COTAÇÕES!#REF!
Name __bookmark_30: COTAÇÕES!#REF!
Name __bookmark_30: COTAÇÕES!#REF!
Name __bookmark_31: COTAÇÕES!#REF!
Name __bookmark_31: COTAÇÕES!#REF!
Name __bookmark_32: COTAÇÕES!#REF!
Name __bookmark_32: COTAÇÕES!#REF!
Name __bookmark_33: COTAÇÕES!#REF!
Name __bookmark_33: COTAÇÕES!#REF!

Sheet Orçamento UTR II
A1: ORÇAMENTO SINTÉTICO
A2: 000942 - TRÊS PONTAS/MG-S.A.A.- UTR ETA II - PEP: SE11000/O0
A3: Localidade: TRÊS PONTAS - Base de Dados: DIBH0625 - SINAPI 1224 - Belo Horizonte - DESONERADA | M3: 13.8
A5: Linha | B5: Código | C5: Descrição | D5: Un. | E5: Quant. | G5: Custo $ | H5: Unit. Preço$ | I5: Preço $ | J5: BDI-O % | K5: BDI-F %
A6: 1 | C6: TOTAL DO ORÇAMENTO | G6: =G7+G90+G158+G188+G209 -> 1300712.6 | I6: =I7+I90+I158+I188+I209 -> 1601824.6 | J6: 1.292 | K6: 1.193
A7: 2 | C7: SERVIÇOS AUXILIARES | G7: =G8 -> 456325.06 | I7: =I8 -> 570762.13
A8: 3 | C8: UTR ETA II - TANQUES DE COMPENSAÇÃO/ELEV. DE EFLUENTES DA ETA | G8: =G9+G46+G86 -> 456325.06 | I8: =I9+I46+I86 -> 570762.13
A9: 4 | C9: SERVIÇOS | G9: =G10+G12+G14+G22+G30+G32+G39+G44 -> 266326.56 | I9: =I10+I12+I14+I22+I30+I32+I39+I44 -> 344093.91 | L9: =IF(I9/G9=1.292,"OK!","Erro!") -> OK!
A10: 5 | C10: Serviços Específicos | G10: =SUM(G11) -> 19261.44 | I10: =SUM(I11) -> 24885.78
A11: 6 | B11: SE11000/O0-S001 | C11: ELABORAÇÃO DE PROJETO EXECUTIVO COMPLEMENTAR, DESTINADO A AJUSTES NECESSÁRIOS DURANTE A OBRA, ELÉTRICO E ESTRUTURAL EM FORMATO A1 | D11: UN | E11: 1 | F11: ='LISTA DE COMPOSIÇÕES'!F5 -> 19261.44 | G11: =F11*E11 -> 19261.44 | H11: =F11*J11 -> 24885.78 | I11: =H11*E11 -> 24885.78 | J11: 1.292
A12: 7 | C12: Serviços Preliminares | G12: =SUM(G13) -> 722.5 | I12: =SUM(I13) -> 933.47 | L12: =IF(I12/G12=1.292,"OK!","Erro!") -> OK!
A13: 8 | B13: 65000017 | C13: LOCACAO ESTRUTURAS - GABARITO/TABEIRA PARA OBRAS | D13: M2 | E13: 125 | F13: 5.78 | G13: =F13*E13 -> 722.5 | H13: =F13*J13 -> 7.46776 | I13: =H13*E13 -> 933.47 | J13: 1.292
A14: 9 | C14: Construção Civil | G14: =SUM(G15:G21) -> 21071.565 | I14: =SUM(I15:I21) -> 27224.462 | L14: =IF(I14/G14=1.292,"OK!","Erro!") -> OK!
A15: 10 | B15: SE11000/O0-003 | C15: ESQUADRIAS (JANELA) DE ALUMÍNIO TIPO VENEZIANA - FORNECIMENTO E COLOCAÇÃO | D15: M2 | E15: 0.55 | F15: ='LISTA DE COMPOSIÇÕES'!F59 -> 558.17967 | G15: =F15*E15 -> 306.99882 | H15: =F15*J15 -> 721.16813 | I15: =H15*E15 -> 396.64247 | J15: 1.292
A16: 11 | B16: SE11000/O0-004 | C16: ESQUADRIAS (JANELA) DE ALUMÍNIO COM TELA ONDULADA EM ARAME, MALHA DE 1", INCLSUIVE QUADRO EM CANTONEIRA EM ALUMÍNIO 1/2" - FORNECIMENTO E COLOCAÇÃO | D16: M2 | E16: 0.72 | F16: ='LISTA DE COMPOSIÇÕES'!F53 -> 558.17967 | G16: =F16*E16 -> 401.88936 | H16: =F16*J16 -> 721.16813 | I16: =H16*E16 -> 519.24105 | J16: 1.292
A17: 12 | B17: 74194/1 | C17: ESCADA TIPO MARINHEIRO EM TUBO ACO GALVANIZADO 1 1/2" 5 DEGRAUS | D17: M | E17: 4.6 | F17: 219.45046 | G17: =F17*E17 -> 1009.4721 | H17: =F17*J17 -> 283.53 | I17: =H17*E17 -> 1304.238 | J17: 1.292
A18: 13 | B18: 99839 | C18: GUARDA-CORPO DE AÇO GALVANIZADO DE 1,10M DE ALTURA, MONTANTES TUBULARES DE 1.1/2 ESPAÇADOS DE 1,20M, TRAVESSA SUPERIOR DE 2 , GRADIL FORMADO POR BARRAS CHATAS EM FERRO DE 32X4,8MM, FIXADO COM CHUMBADOR MECÂNICO. AF_04/2019 | D18: M | E18: 34.5 | F18: 482.6 | G18: =F18*E18 -> 16649.7 | H18: =F18*J18 -> 623.5192 | I18: =H18*E18 -> 21511.412 | J18: 1.292
A19: 14 | B19: 65000118 | C19: PORTINHOLAS E TAMPAS DE CHAPA DE FERRO | D19: M2 | E19: 3.5 | F19: 374.87 | G19: =F19*E19 -> 1312.045 | H19: =F19*J19 -> 484.33204 | I19: =H19*E19 -> 1695.1621 | J19: 1.292
A20: 15 | B20: 73836/1 | C20: INSTALACAO DE CONJ.MOTO BOMBA HORIZONTAL ATE 10 CV | D20: UN | E20: 1 | F20: 173.98 | G20: =F20*E20 -> 173.98 | H20: =F20*J20 -> 224.78216 | I20: =H20*E20 -> 224.78216 | J20: 1.292
A21: 16 | B21: 100726 | C21: PINTURA COM TINTA ALQUÍDICA DE FUNDO E ACABAMENTO (ESMALTE SINTÉTICO GRAFITE) APLICADA A ROLO OU PINCEL SOBRE SUPERFÍCIES METÁLICAS (EXCETO PERFIL) EXECUTADO EM OBRA (POR DEMÃO). AF_01/2020 | D21: M2 | E21: 44 | F21: 27.67 | G21: =F21*E21 -> 1217.48 | H21: =F21*J21 -> 35.74964 | I21: =H21*E21 -> 1572.9842 | J21: 1.292
A22: 17 | C22: Movimento de Terra | G22: =SUM(G23:G29) -> 12208.77 | I22: =SUM(I23:I29) -> 15773.731 | L22: =IF(I22/G22=1.292,"OK!","Erro!") -> OK!
A23: 18 | B23: 65000151 | C23: ESCAVACAO E CARGA EM SOLO, COM PA MECANICA OU ESCAVADEIRA | D23: M3 | E23: 402 | F23: 10.52 | G23: =F23*E23 -> 4229.04 | H23: =F23*J23 -> 13.59184 | I23: =H23*E23 -> 5463.9197 | J23: 1.292
A24: 19 | B24: 65000173 | C24: ATERRO DE VALAS E CAVAS DE FUNDACAO, C/ AVALIACAO VISUAL DA COMPACTACAO | D24: M3 | E24: 120 | F24: 23.36 | G24: =F24*E24 -> 2803.2 | H24: =F24*J24 -> 30.18112 | I24: =H24*E24 -> 3621.7344 | J24: 1.292
A25: 20 | B25: 65000181 | C25: CARGA MECANICA (MATERIAL EM GERAL), SEM MANUSEIO E ARRUMACAO DO MATERIAL | D25: M3 | E25: 339 | F25: 2.4 | G25: =F25*E25 -> 813.6 | H25: =F25*J25 -> 3.1008 | I25: =H25*E25 -> 1051.1712 | J25: 1.292
A26: 21 | B26: 65002545 | C26: TRANSPORTE EM PERIMETRO URBANO A GRANEL - DISTANCIA ATE 1,0 KM | D26: M3 | E26: 339 | F26: 4.53 | G26: =F26*E26 -> 1535.67 | H26: =F26*J26 -> 5.85276 | I26: =H26*E26 -> 1984.0856 | J26: 1.292
A27: 22 | B27: 65002546 | C27: ADICIONAL DE TRANSPORTE EM PERIMETRO URBANO A GRANEL - DISTANCIA SUPERIOR A 1,0 KM | D27: M3K | E27: 678 | F27: 2.26 | G27: =F27*E27 -> 1532.28 | H27: =F27*J27 -> 2.91992 | I27: =H27*E27 -> 1979.7058 | J27: 1.292
A28: 23 | B28: 65000182 | C28: DESCARGA DE MATERIAL EM GERAL, A GRANEL, DE CAMINHAO BASCULANTE | D28: M3 | E28: 339 | F28: 0.61 | G28: =F28*E28 -> 206.79 | H28: =F28*J28 -> 0.78812 | I28: =H28*E28 -> 267.17268 | J28: 1.292
A29: 24 | B29: 65000176 | C29: ESPALHAMENTO DE SOLO EM BOTA FORA | D29: M3 | E29: 339 | F29: 3.21 | G29: =F29*E29 -> 1088.19 | H29: =F29*J29 -> 4.14732 | I29: =H29*E29 -> 1405.9415 | J29: 1.292
A30: 25 | C30: Contenção, Escor., Esgot. e Drenagem | G30: =SUM(G31:G31) -> 1499.24 | I30: =SUM(I31:I31) -> 1937.0181 | L30: =IF(I30/G30=1.292,"OK!","Erro!") -> OK!
A31: 26 | B31: 65000237 | C31: CIMBRAMENTO DE MADEIRA | D31: M3 | E31: 37 | F31: 40.52 | G31: =F31*E31 -> 1499.24 | H31: =F31*J31 -> 52.35184 | I31: =H31*E31 -> 1937.0181 | J31: 1.292
A32: 27 | C32: Fundações e Estruturas | G32: =SUM(G33:G38) -> 201375.03 | I32: =SUM(I33:I38) -> 260176.54 | L32: =IF(I32/G32=1.292,"OK!","Erro!") -> OK!
A33: 28 | B33: 65003744 | C33: LASTRO DE CONCRETO SIMPLES, CONSUMO MINIMO DE CIMENTO 150 KG/M3, INCLUSIVE LANCAMENTMO E ADENSAMENTO | D33: M3 | E33: 4 | F33: 805.2 | G33: =F33*E33 -> 3220.8 | H33: =F33*J33 -> 1040.3184 | I33: =H33*E33 -> 4161.2736 | J33: 1.292
A34: 29 | B34: 65000241 | C34: FORMA PLANA EM CHAPA DE MADEIRA COMPENSADA PLASTIFICADA, E = 14 MM, P/ ESTRUTURAS | D34: M2 | E34: 455 | F34: 91 | G34: =F34*E34 -> 41405 | H34: =F34*J34 -> 117.572 | I34: =H34*E34 -> 53495.26 | J34: 1.292
A35: 30 | B35: 65003743 | C35: DESFORMA DE ESTRUTURAS, QUALQUER ALTURA OU PROFUNDIDADE | D35: M2 | E35: 455 | F35: 27.05 | G35: =F35*E35 -> 12307.75 | H35: =F35*J35 -> 34.9486 | I35: =H35*E35 -> 15901.613 | J35: 1.292
A36: 31 | B36: 65000276 | C36: ARMADURA DE ACO CA 50, FORNECIMENTO E COLOCACAO | D36: KG | E36: 6397 | F36: 13.24 | G36: =F36*E36 -> 84696.28 | H36: =F36*J36 -> 17.10608 | I36: =H36*E36 -> 109427.59 | J36: 1.292
A37: 32 | B37: 65000277 | C37: ARMADURA DE ACO CA 60, FORNECIMENTO E COLOCACAO | D37: KG | E37: 337 | F37: 13.24 | G37: =F37*E37 -> 4461.88 | H37: =F37*J37 -> 17.10608 | I37: =H37*E37 -> 5764.749 | J37: 1.292
A38: 33 | B38: 65003653 | C38: CONCRETO FCK 30 MPA USINADO - FORNECIMENTO, TRANSPORTE, BOMBEAMENTO/LANCAMENTO E ADENSAMENTO | D38: M3 | E38: 68 | F38: 812.99 | G38: =F38*E38 -> 55283.32 | H38: =F38*J38 -> 1050.3831 | I38: =H38*E38 -> 71426.049 | J38: 1.292
A39: 34 | C39: Assentamentos | G39: =SUM(G40:G43) -> 9916.5 | I39: =SUM(I40:I43) -> 12812.118 | L39: =IF(I39/G39=1.292,"OK!","Erro!") -> OK!
A40: 35 | B40: SE11000/O0-001 | C40: CONJUNTO SOPRADOR DE AR, CONFORME PROJETO - INSTALAÇÃO | D40: UN | E40: 1 | F40: ='LISTA DE COMPOSIÇÕES'!F31 -> 126.64 | G40: =F40*E40 -> 126.64 | H40: =F40*J40 -> 163.61888 | I40: =H40*E40 -> 163.61888 | J40: 1.292
A41: 36 | B41: SE11000/O0-005 | C41: SISTEMA DE AERAÇÃO POR AR DÍFUSO, COM UMA GRADE DIVIDIDA EM 04 RAMAIS DE DISTRIBUIÇÃO EM PVC/60 MM, COM DIFUSORES DE BOLHA GROSSA,INCLUSIVE FIXAÇÕES - INSTALAÇÃO | D41: UN | E41: 2 | F41: ='LISTA DE COMPOSIÇÕES'!F217 -> 266.24 | G41: =F41*E41 -> 532.48 | H41: =F41*J41 -> 343.98208 | I41: =H41*E41 -> 687.96416 | J41: 1.292
...

Sheet Orçamento UTR II -ARRED
A1: ORÇAMENTO SINTÉTICO
A2: 000942 - TRÊS PONTAS/MG-S.A.A.- UTR ETA II - PEP: SE11000/O0
A3: Localidade: TRÊS PONTAS - Base de Dados: DIBH0625 - SINAPI 1224 - Belo Horizonte - DESONERADA
A5: Linha | B5: Código | C5: Descrição | D5: Un. | E5: Quant. | G5: Custo $ | H5: Unit. Preço$ | I5: Preço $ | J5: BDI-O % | K5: BDI-F %
A6: 1 | C6: TOTAL DO ORÇAMENTO | G6: =G7+G90+G158+G188+G209 -> 1300647.6 | I6: =I7+I90+I158+I188+I209-0.02 -> 1602605.4 | J6: 1.292 | K6: 1.193 | L6: =I6-'Orçamento UTR II'!I6 -> 780.7353 | M6: 1602605.4 | N6: =I6-M6 -> -0.02
A7: 2 | C7: SERVIÇOS AUXILIARES | G7: =G8 -> 456260.07 | I7: =I8 -> 570796.39
A8: 3 | C8: UTR ETA II - TANQUES DE COMPENSAÇÃO/ELEV. DE EFLUENTES DA ETA | G8: =G9+G46+G86 -> 456260.07 | I8: =I9+I46+I86 -> 570796.39
A9: 4 | C9: SERVIÇOS | G9: =G10+G12+G14+G22+G30+G32+G39+G44 -> 266261.56 | I9: =I10+I12+I14+I22+I30+I32+I39+I44 -> 344128.29 | L9: =I9-'Orçamento UTR II'!I9 -> 34.380536
A10: 5 | C10: Serviços Específicos | G10: =SUM(G11) -> 19261.44 | I10: =SUM(I11) -> 24885.78
A11: 6 | B11: SE11000/O0-S001 | C11: ELABORAÇÃO DE PROJETO EXECUTIVO COMPLEMENTAR, DESTINADO A AJUSTES NECESSÁRIOS DURANTE A OBRA, ELÉTRICO E ESTRUTURAL EM FORMATO A1 | D11: UN | E11: 1 | F11: 19261.44 | G11: 19261.44 | H11: 24885.78 | I11: 24885.78 | J11: 1.292
A12: 7 | C12: Serviços Preliminares | G12: =SUM(G13) -> 657.5 | I12: =SUM(I13) -> 933.75 | L12: =I12-'Orçamento UTR II'!I12 -> 0.28
A13: 8 | B13: 65000017 | C13: LOCACAO ESTRUTURAS - GABARITO/TABEIRA PARA OBRAS | D13: M2 | E13: 125 | F13: 5.26 | G13: 657.5 | H13: 7.47 | I13: =E13*H13 -> 933.75 | J13: 1.292
A14: 9 | C14: Construção Civil | G14: =SUM(G15:G21) -> 21071.57 | I14: =SUM(I15:I21) -> 27224.52 | L14: =I14-'Orçamento UTR II'!I14 -> 0.057615747
A15: 10 | B15: SE11000/O0-003 | C15: ESQUADRIAS (JANELA) DE ALUMÍNIO TIPO VENEZIANA - FORNECIMENTO E COLOCAÇÃO | D15: M2 | E15: 0.55 | F15: 558.19 | G15: 307 | H15: 721.18 | I15: 396.65 | J15: 1.292
A16: 11 | B16: SE11000/O0-004 | C16: ESQUADRIAS (JANELA) DE ALUMÍNIO COM TELA ONDULADA EM ARAME, MALHA DE 1", INCLSUIVE QUADRO EM CANTONEIRA EM ALUMÍNIO 1/2" - FORNECIMENTO E COLOCAÇÃO | D16: M2 | E16: 0.72 | F16: 558.19 | G16: 401.89 | H16: 721.18 | I16: 519.25 | J16: 1.292
A17: 12 | B17: 74194/1 | C17: ESCADA TIPO MARINHEIRO EM TUBO ACO GALVANIZADO 1 1/2" 5 DEGRAUS | D17: M | E17: 4.6 | F17: 219.45 | G17: 1009.47 | H17: 283.53 | I17: 1304.24 | J17: 1.292
A18: 13 | B18: 99839 | C18: GUARDA-CORPO DE AÇO GALVANIZADO DE 1,10M DE ALTURA, MONTANTES TUBULARES DE 1.1/2 ESPAÇADOS DE 1,20M, TRAVESSA SUPERIOR DE 2 , GRADIL FORMADO POR BARRAS CHATAS EM FERRO DE 32X4,8MM, FIXADO COM CHUMBADOR MECÂNICO. AF_04/2019 | D18: M | E18: 34.5 | F18: 482.6 | G18: 16649.7 | H18: 623.52 | I18: 21511.44 | J18: 1.292
A19: 14 | B19: 65000118 | C19: PORTINHOLAS E TAMPAS DE CHAPA DE FERRO | D19: M2 | E19: 3.5 | F19: 374.87 | G19: 1312.05 | H19: 484.33 | I19: 1695.16 | J19: 1.292
A20: 15 | B20: 73836/1 | C20: INSTALACAO DE CONJ.MOTO BOMBA HORIZONTAL ATE 10 CV | D20: UN | E20: 1 | F20: 173.98 | G20: 173.98 | H20: 224.78 | I20: 224.78 | J20: 1.292
A21: 16 | B21: 100726 | C21: PINTURA COM TINTA ALQUÍDICA DE FUNDO E ACABAMENTO (ESMALTE SINTÉTICO GRAFITE) APLICADA A ROLO OU PINCEL SOBRE SUPERFÍCIES METÁLICAS (EXCETO PERFIL) EXECUTADO EM OBRA (POR DEMÃO). AF_01/2020 | D21: M2 | E21: 44 | F21: 27.67 | G21: 1217.48 | H21: 35.75 | I21: 1573 | J21: 1.292
A22: 17 | C22: Movimento de Terra | G22: =SUM(G23:G29) -> 12208.77 | I22: =SUM(I23:I29) -> 15773.25 | L22: =I22-'Orçamento UTR II'!I22 -> -0.48084
A23: 18 | B23: 65000151 | C23: ESCAVACAO E CARGA EM SOLO, COM PA MECANICA OU ESCAVADEIRA | D23: M3 | E23: 402 | F23: 10.52 | G23: 4229.04 | H23: 13.59 | I23: 5463.18 | J23: 1.292
A24: 19 | B24: 65000173 | C24: ATERRO DE VALAS E CAVAS DE FUNDACAO, C/ AVALIACAO VISUAL DA COMPACTACAO | D24: M3 | E24: 120 | F24: 23.36 | G24: 2803.2 | H24: 30.18 | I24: 3621.6 | J24: 1.292
A25: 20 | B25: 65000181 | C25: CARGA MECANICA (MATERIAL EM GERAL), SEM MANUSEIO E ARRUMACAO DO MATERIAL | D25: M3 | E25: 339 | F25: 2.4 | G25: 813.6 | H25: 3.1 | I25: 1050.9 | J25: 1.292
A26: 21 | B26: 65002545 | C26: TRANSPORTE EM PERIMETRO URBANO A GRANEL - DISTANCIA ATE 1,0 KM | D26: M3 | E26: 339 | F26: 4.53 | G26: 1535.67 | H26: 5.85 | I26: 1983.15 | J26: 1.292
A27: 22 | B27: 65002546 | C27: ADICIONAL DE TRANSPORTE EM PERIMETRO URBANO A GRANEL - DISTANCIA SUPERIOR A 1,0 KM | D27: M3K | E27: 678 | F27: 2.26 | G27: 1532.28 | H27: 2.92 | I27: 1979.76 | J27: 1.292
A28: 23 | B28: 65000182 | C28: DESCARGA DE MATERIAL EM GERAL, A GRANEL, DE CAMINHAO BASCULANTE | D28: M3 | E28: 339 | F28: 0.61 | G28: 206.79 | H28: 0.79 | I28: 267.81 | J28: 1.292
A29: 24 | B29: 65000176 | C29: ESPALHAMENTO DE SOLO EM BOTA FORA | D29: M3 | E29: 339 | F29: 3.21 | G29: 1088.19 | H29: 4.15 | I29: 1406.85 | J29: 1.292
A30: 25 | C30: Contenção, Escor., Esgot. e Drenagem | G30: =SUM(G31:G31) -> 1499.24 | I30: =SUM(I31:I31) -> 1936.95 | L30: =I30-'Orçamento UTR II'!I30 -> -0.06808
A31: 26 | B31: 65000237 | C31: CIMBRAMENTO DE MADEIRA | D31: M3 | E31: 37 | F31: 40.52 | G31: 1499.24 | H31: 52.35 | I31: 1936.95 | J31: 1.292
A32: 27 | C32: Fundações e Estruturas | G32: =SUM(G33:G38) -> 201375.03 | I32: =SUM(I33:I38) -> 260202.46 | L32: =I32-'Orçamento UTR II'!I32 -> 25.92124
A33: 28 | B33: 65003744 | C33: LASTRO DE CONCRETO SIMPLES, CONSUMO MINIMO DE CIMENTO 150 KG/M3, INCLUSIVE LANCAMENTMO E ADENSAMENTO | D33: M3 | E33: 4 | F33: 805.2 | G33: 3220.8 | H33: 1040.32 | I33: 4161.28 | J33: 1.292
A34: 29 | B34: 65000241 | C34: FORMA PLANA EM CHAPA DE MADEIRA COMPENSADA PLASTIFICADA, E = 14 MM, P/ ESTRUTURAS | D34: M2 | E34: 455 | F34: 91 | G34: 41405 | H34: 117.57 | I34: 53494.35 | J34: 1.292
A35: 30 | B35: 65003743 | C35: DESFORMA DE ESTRUTURAS, QUALQUER ALTURA OU PROFUNDIDADE | D35: M2 | E35: 455 | F35: 27.05 | G35: 12307.75 | H35: 34.95 | I35: 15902.25 | J35: 1.292
A36: 31 | B36: 65000276 | C36: ARMADURA DE ACO CA 50, FORNECIMENTO E COLOCACAO | D36: KG | E36: 6397 | F36: 13.24 | G36: 84696.28 | H36: 17.11 | I36: 109452.67 | J36: 1.292
A37: 32 | B37: 65000277 | C37: ARMADURA DE ACO CA 60, FORNECIMENTO E COLOCACAO | D37: KG | E37: 337 | F37: 13.24 | G37: 4461.88 | H37: 17.11 | I37: 5766.07 | J37: 1.292
A38: 33 | B38: 65003653 | C38: CONCRETO FCK 30 MPA USINADO - FORNECIMENTO, TRANSPORTE, BOMBEAMENTO/LANCAMENTO E ADENSAMENTO | D38: M3 | E38: 68 | F38: 812.99 | G38: 55283.32 | H38: 1050.38 | I38: 71425.84 | J38: 1.292
A39: 34 | C39: Assentamentos | G39: =SUM(G40:G43) -> 9916.5 | I39: =SUM(I40:I43) -> 12820.74 | L39: =I39-'Orçamento UTR II'!I39 -> 8.622
A40: 35 | B40: SE11000/O0-001 | C40: CONJUNTO SOPRADOR DE AR, CONFORME PROJETO - INSTALAÇÃO | D40: UN | E40: 1 | F40: 126.64 | G40: 126.64 | H40: 163.62 | I40: 163.62 | J40: 1.292
A41: 36 | B41: SE11000/O0-005 | C41: SISTEMA DE AERAÇÃO POR AR DÍFUSO, COM UMA GRADE DIVIDIDA EM 04 RAMAIS DE DISTRIBUIÇÃO EM PVC/60 MM, COM DIFUSORES DE BOLHA GROSSA,INCLUSIVE FIXAÇÕES - INSTALAÇÃO | D41: UN | E41: 2 | F41: 266.24 | G41: 532.48 | H41: 343.98 | I41: 687.96 | J41: 1.292
...

Sheet CRONOGRAMA
A1: UTR ETA II
A3: CRONOGRAMA FÍSICO FINANCEIRO
A4: TRÊS PONTAS - MG
A6: ITEM | B6: DISCRIMINAÇÃO | C6: % DO ITEM | D6: VALOR (R$) | E6: 12 MESES
E7: 1 MÊS | F7: 2 MÊS | G7: 3 MÊS | H7: 4 MÊS | I7: 5 MÊS | J7: 6 MÊS | K7: 7 MÊS | L7: 8 MÊS | M7: 9 MÊS | N7: 10 MÊS | O7: 11 MÊS | P7: 12 MÊS
A9: 1 | B9: ='Orçamento UTR II -ARRED'!C8 -> UTR ETA II - TANQUES DE COMPENSAÇÃO/ELEV. DE EFLUENTES DA ETA | C9: =D9/$D$81 -> 0.35616778 | D9: =SUM(D11:D20) -> 570796.39
Q10: =SUM(E10:P10) -> 0
A11: 1.1 | B11: Serviços Específicos / Preliminares | C11: =D11/$D$81 -> 0.016110972 | D11: ='Orçamento UTR II -ARRED'!I10+'Orçamento UTR II -ARRED'!I12 -> 25819.53 | E11: 1 | Q11: =SUM(E11:P11) -> 1
E12: =$D$11*E11 -> 25819.53 | Q12: =SUM(E12:P12) -> 25819.53
A13: 1.2 | B13: Movimento de Terra | C13: =D13/$D$81 -> 0.0098422546 | D13: ='Orçamento UTR II -ARRED'!I22 -> 15773.25 | F13: 0.6 | G13: 0.4 | Q13: =SUM(E13:P13) -> 1
F14: =$D$13*F13 -> 9463.95 | G14: =$D$13*G13 -> 6309.3 | Q14: =SUM(E14:P14) -> 15773.25
A15: 1.3 | B15: Contenção, Escor., Esgot. e Drenagem / Fundações e Estruturas | C15: =D15/$D$81 -> 0.16357078 | D15: ='Orçamento UTR II -ARRED'!I30+'Orçamento UTR II -ARRED'!I32 -> 262139.41 | G15: 0.5 | H15: 0.5 | Q15: =SUM(E15:P15) -> 1
G16: =$D$15*G15 -> 131069.71 | H16: =$D$15*H15 -> 131069.71 | Q16: =SUM(E16:P16) -> 262139.41
A17: 1.4 | B17: Assentamentos | C17: =D17/$D$81 -> 0.14943719 | D17: ='Orçamento UTR II -ARRED'!I39+'Orçamento UTR II -ARRED'!I46+'Orçamento UTR II -ARRED'!I86 -> 239488.84 | I17: 0.2 | J17: 0.2 | K17: 0.2 | L17: 0.2 | M17: 0.2 | Q17: =SUM(E17:P17) -> 1
I18: =$D$17*I17 -> 47897.768 | J18: =$D$17*J17 -> 47897.768 | K18: =$D$17*K17 -> 47897.768 | L18: =$D$17*L17 -> 47897.768 | M18: =$D$17*M17 -> 47897.768 | Q18: =SUM(E18:P18) -> 239488.84
A19: 1.5 | B19: Construção Civil / Serviços Diversos | C19: =D19/$D$81 -> 0.017206582 | D19: ='Orçamento UTR II -ARRED'!I14+'Orçamento UTR II -ARRED'!I44 -> 27575.36 | I19: 0.2 | J19: 0.2 | K19: 0.2 | L19: 0.2 | M19: 0.2
I20: =$D$19*I19 -> 5515.072 | J20: =$D$19*J19 -> 5515.072 | K20: =$D$19*K19 -> 5515.072 | L20: =$D$19*L19 -> 5515.072 | M20: =$D$19*M19 -> 5515.072
A21: 2 | B21: ='Orçamento UTR II -ARRED'!C90 -> UTR-ETA II - SISTEMA DE DESAGUAMENTO | C21: =D21/$D$81 -> 0.55388494 | D21: =SUM(D37:D48) -> 887658.98
C23: =D23/$D$81 -> 0.017701675 | D23: ='Orçamento UTR II -ARRED'!I18+'Orçamento UTR II -ARRED'!I48 -> 28368.8
C25: =D25/$D$81 -> 0.00031743935 | D25: ='Orçamento UTR II -ARRED'!I20+'Orçamento UTR II -ARRED'!I50 -> 508.73
C27: =D27/$D$81 -> 0.010379305 | D27: ='Orçamento UTR II -ARRED'!I22+'Orçamento UTR II -ARRED'!I52 -> 16633.93
C29: =D29/$D$81 -> 0.003618408 | D29: ='Orçamento UTR II -ARRED'!I24+'Orçamento UTR II -ARRED'!I54 -> 5798.88
C31: =D31/$D$81 -> 0.001605311 | D31: ='Orçamento UTR II -ARRED'!I26+'Orçamento UTR II -ARRED'!I56 -> 2572.68
C33: =D33/$D$81 -> 0.00097114988 | D33: ='Orçamento UTR II -ARRED'!I28+'Orçamento UTR II -ARRED'!I58 -> 1556.37
C35: =D35/$D$81 -> 0.0019738796 | D35: ='Orçamento UTR II -ARRED'!I30+'Orçamento UTR II -ARRED'!I60 -> 3163.35
A37: 2.1 | B37: Serviços Preliminares | C37: =D37/$D$81 -> 0.00040085976 | D37: ='Orçamento UTR II -ARRED'!I92 -> 642.42 | E37: 1 | Q37: =SUM(E37:P37) -> 1
E38: =$D$37*E37 -> 642.42 | Q38: =SUM(E38:P38) -> 642.42
A39: 2.3 | B39: Movimento de Terra | C39: =D39/$D$81 -> 0.00081096072 | D39: ='Orçamento UTR II -ARRED'!I105 -> 1299.65 | F39: 0.6 | G39: 0.4 | Q39: =SUM(E39:P39) -> 1
F40: =$D$39*F39 -> 779.79 | G40: =$D$39*G39 -> 519.86 | Q40: =SUM(E40:P40) -> 1299.65
A41: 2.4 | B41: Contenção, Escor., Esgot. e Drenagem / Fundações e Estruturas | C41: =D41/$D$81 -> 0.086274066 | D41: ='Orçamento UTR II -ARRED'!I113+'Orçamento UTR II -ARRED'!I115 -> 138263.28 | H41: 0.5 | I41: 0.5 | Q41: =SUM(E41:P41) -> 1
H42: =$D$41*H41 -> 69131.64 | I42: =$D$41*I41 -> 69131.64 | Q42: =SUM(E42:P42) -> 138263.28
A43: 2.5 | B43: Assentamentos | C43: =D43/$D$81 -> 0.39594839 | D43: ='Orçamento UTR II -ARRED'!I124+'Orçamento UTR II -ARRED'!I142+'Orçamento UTR II -ARRED'!I155 -> 634549.01 | J43: 0.2 | K43: 0.3 | L43: 0.3 | M43: 0.2 | Q43: =SUM(E43:P43) -> 1
J44: =$D$43*J43 -> 126909.8 | K44: =$D$43*K43 -> 190364.7 | L44: =$D$43*L43 -> 190364.7 | M44: =$D$43*M43 -> 126909.8 | Q44: =SUM(E44:P44) -> 634549.01
A45: 2.2 | B45: Construção Civil | C45: =D45/$D$81 -> 0.051970455 | D45: ='Orçamento UTR II -ARRED'!I94 -> 83288.13 | I45: 0.1 | J45: 0.2 | K45: 0.3 | L45: 0.2 | M45: 0.2
I46: =$D$45*I45 -> 8328.813 | J46: =$D$45*J45 -> 16657.626 | K46: =$D$45*K45 -> 24986.439 | L46: =$D$45*L45 -> 16657.626 | M46: =$D$45*M45 -> 16657.626
A47: 2.6 | B47: Serviços Diversos | C47: =D47/$D$81 -> 0.018480214 | D47: ='Orçamento UTR II -ARRED'!I137 -> 29616.49 | M47: 1
M48: =$D$47*M47 -> 29616.49
A49: 3 | B49: ='Orçamento UTR II -ARRED'!C188 -> UTR-ETA II - LINHA DE RECALQUE | C49: =D49/$D$81 -> 0.029239656 | D49: =SUM(D51:D58) -> 46859.63
A51: 3.1 | B51: Movimento de Terra | C51: =D51/$D$81 -> 0.0032065099 | D51: ='Orçamento UTR II -ARRED'!I190 -> 5138.77 | N51: 0.5 | O51: 0.5
N52: =$D$51*N51 -> 2569.385 | O52: =$D$51*O51 -> 2569.385
...

Sheet LISTA DE COMPOSIÇÕES
B1: LISTA DE COMPOSIÇÕES
B2: Base: DISL1224 - SINAPI - Região Sul - MG - DESONERAD
B3: Orçamento: TRÊS PONTAS / MG - S.A.A. - UTR ETA II
A4: Código | B4: Denominação | E4: Un | F4: Total $
A5: ='Orçamento UTR II -ARRED'!B11 -> SE11000/O0-S001 | B5: ='Orçamento UTR II -ARRED'!C11 -> ELABORAÇÃO DE PROJETO EXECUTIVO COMPLEMENTAR, DESTINADO A AJUSTES NECESSÁRIOS DURANTE A OBRA, ELÉTRICO E ESTRUTURAL EM FORMATO A1 | E5: UN | F5: =SUM(F6:F8) -> 19261.44
A6: 65003661 | B6: PROJETO ELETRICO - DETALHAMENTOS COMPLEMENTARES, DIAGRAMAS TRIFILARES, DIAGRAMAS DE COMANDO E DETALHES DE INSTALACAO | C6: UN | D6: 4 | E6: 1475.07 | F6: =E6*D6 -> 5900.28
A7: 65003736 | B7: PROJETO ELETRICO DIAGRAMAS UNIFILARES, DISTRIBUICAO DE CIRCUITO DE FORÇA E CONTROLE, REDE DE DUTOS, PADRAO DE ENTRADA EM BAIXA TENSAO, MEMORIA DE CALCULO, DESCRITIVO | C7: UN | D7: 1 | E7: 3103.88 | F7: =E7*D7 -> 3103.88
A8: 65002795 | B8: PROJETO ESTRUTURAL DE CONCRETO ARMADO - FORMATO A1. | C8: UN | D8: 4 | E8: 2564.32 | F8: =E8*D8 -> 10257.28
A9: SE11000/O0-M007 | B9: ARRUELA C/ BORRACHA ( ABMF ), DN 400 MM | E9: UN | F9: =SUM(F10) -> 59.121667
A10: V0000008 | B10: ARRUELA C/ BORRACHA ( ABMF ), DN 400 MM | C10: UN | D10: 1 | E10: =COTAÇÕES!BW4 -> 59.121667 | F10: =E10*D10 -> 59.121667
A11: Regulamentação: Descrição do Serviço: ARRUELA C/ BORRACHA ( ABMF ), DN 400 MM - FORNECIMENTO À CARGO DA EMPREITEIRA Critério de Medição: POR UNIDADE, EM COMUM ACORDO COM FISCALIZAÇÃO
A12: SE11000/O0-M012 | B12: ARRUELA C/ BORRACHA (ABMF), DN 100 MM | E12: UN | F12: =SUM(F13) -> 56.01
A13: V0000001 | B13: ARRUELA C/ BORRACHA (ABMF), DN 100 MM | C13: UN | D13: 1 | E13: =COTAÇÕES!BW5 -> 56.01 | F13: =E13*D13 -> 56.01
A14: Regulamentação: Descrição do Serviço: ARRUELA C/ BORRACHA ( ABMF ), DN 100 MM - FORNECIMENTO À CARGO DA EMPREITEIRA Critério de Medição: POR UNIDADE, EM COMUM ACORDO COM FISCALIZAÇÃO
A15: SE11000/O0-M013 | B15: ARRUELA C/ BORRACHA (ABMF), DN 150 MM | E15: UN | F15: =SUM(F16) -> 73.43
A16: V0000002 | B16: ARRUELA C/ BORRACHA (ABMF), DN 150 MM | C16: UN | D16: 1 | E16: =COTAÇÕES!BW3 -> 73.43 | F16: =E16*D16 -> 73.43
A17: Regulamentação: Descrição do Serviço: ARRUELA C/ BORRACHA ( ABMF ), DN 150 MM - FORNECIMENTO À CARGO DA EMPREITEIRA Critério de Medição: POR UNIDADE, EM COMUM ACORDO COM FISCALIZAÇÃO
A18: SE11000/O0-M018 | B18: CABEÇOTE (CAB) - EURO 300/350/400 MM | E18: UN | F18: =SUM(F19) -> 282
A19: V0000014 | B19: CABEÇOTE (CAB) - EURO 300/350/400 MM | C19: UN | D19: 1 | E19: =COTAÇÕES!BW6 -> 282 | F19: =E19*D19 -> 282
A20: Regulamentação: Descrição do Serviço: CABEÇOTE (CAB) - EURO 300/350/400 MM - FORNECIMENTO À CARGO DA EMPREITEIRA Critério de Medição: POR UNIDADE, EM COMUM ACORDO COM FISCALIZAÇÃO
A21: SE11000/O0-S019 | B21: CAÇAMBA ESTACIONÁRIA, CAPACIDADE PARA 5 M3, PARA COLETA DO LODO DESIDRATADO, COM DOIS CARRINHOS REBOQUE E TRILHOS DE 9,00 M, CONFORME PROJETO - FORNECIMENTO E COLOCAÇÃO | E21: UN | F21: =SUM(F22:F26) -> 12787.913
A22: 6110 | B22: SERRALHEIRO | C22: H | D22: 8 | E22: 18.81 | F22: =E22*D22 -> 150.48
A23: 0252 | B23: AJUDANTE DE SERRALHEIRO | C23: H | D23: 8 | E23: 14.47 | F23: =E23*D23 -> 115.76
A24: 65 001 132 | B24: MONOVIA EM PERFIL METALICO " I " DE 6" | C24: M | D24: 18 | E24: 269.83 | F24: =E24*D24 -> 4856.94
A25: V0000066 | B25: CAÇAMBA ESTACIONÁRIA, CAPACIDADE DE 5 M3 | C25: UN | D25: 1 | E25: =COTAÇÕES!BW7 -> 6283.3333 | F25: =E25*D25 -> 6283.3333
A26: V0000068 | B26: ROLDANA CONCOVA DUPLA, EM CHAPA DE ACO, | C26: UN | D26: 2 | E26: =COTAÇÕES!BW41 -> 690.7 | F26: =E26*D26 -> 1381.4
A27: Regulamentação: Descrição do Serviço: FORNECIMENTO E COLOCAÇÃO DE CAÇAMBA ESTACIONÁRIA, CAPACIDADE PARA 5 M3, PARA COLETA DO LODO DESIDRATADO, COM DOIS (2) CARRINHO REBOQUE E TRILHOS DE 9,00 M. Compreende o fornecimento de todos os equipamentos, ferramentas, materiais e mão-de-obra necessários e suficientes à execução dos serviços de instalação do trilho (perfil) horizontal e/ou vertical engastados ou chumbados, batente, andaime, escoramento e travamento, inclusive carga e/ou descarga, transporte vertical e/ou horizontal, manual e/ou mecânico, inclusive instalação dos dois carrinhos reboque para caçamba estacionária, conforme projeto. Critério de Medição: POR UNIDADE, EM COMUM ACORDO COM FISCALIZAÇÃO
A28: SE11000/O0-Q001 | B28: CONJUNTO MOTOBOMBA SUBMERSA, INSTALAÇÃO HORIZONTAL, POTÊNCIA DE 7,5 KW, CONFORME ESPECIFICAÇÃO TÉCNICA | E28: UN | F28: =SUM(F29) -> 32582.333
A29: V0000023 | B29: CONJUNTO MOTOBOMBA SUBMERSA, POT. 7,5 KW | C29: UN | D29: 1 | E29: =COTAÇÕES!BW8 -> 32582.333 | F29: =E29*D29 -> 32582.333
A30: Regulamentação: Descrição do Serviço: CONJUNTO MOTOBOMBA SUBMERSA, INSTALAÇÃO HORIZONTAL, POTÊNCIA DE 7,5 KW, CONFORME ESPECIFICAÇÃO TÉCNICA - FORNECIMENTO À CARGO DA EMPREITEIRA Critério de Medição: POR UNIDADE, EM COMUM ACORDO COM FISCALIZAÇÃO
A31: SE11000/O0-S001 | B31: CONJUNTO SOPRADOR DE AR, CONFORME PROJETO - INSTALAÇÃO | E31: UN | F31: =SUM(F32:F33) -> 126.64
A32: 2696 | B32: ENCANADOR OU BOMBEIRO HIDRAULICO | C32: H | D32: 4 | E32: 18.81 | F32: =E32*D32 -> 75.24
A33: 6121 | B33: AUXILIAR DE SERVICOS GERAIS | C33: H | D33: 4 | E33: 12.85 | F33: =E33*D33 -> 51.4
A34: Regulamentação: Descrição do Serviço: Instalação do Conjunto Soprador conforme projeto. Compreende toda mão de obra e os materiais e equipamentos necessários. Inclui ainda, toda e qualquer movimentação das peças no local da obra, transportes verticais e horizontais, com o emprego de processos manuais ou mecânicos. Critério de Medição: Pela unidade Insumos Mínimos Bombeiro, Auxiliar de bombeiro
A35: SE11000/O0-M006 | B35: CURVA 90°DE F°F°COM FLANGES ( C90°FF10 ), DN 400 MM | E35: UN | F35: =SUM(F36) -> 7298.78
A36: V0000009 | B36: CURVA 90°DE F°F°(C90°FF10), DN 400 MM | C36: UN | D36: 1 | E36: =COTAÇÕES!BW11 -> 7298.78 | F36: =E36*D36 -> 7298.78
A37: Regulamentação: Descrição do Serviço: CURVA 90°DE F°F° COM FLANGES ( C90°FF10 ), DN 400 MM - FORNECIMENTO À CARGO DA EMPREITEIRA Critério de Medição: POR UNIDADE, EM COMUM ACORDO COM FISCALIZAÇÃO
A38: SE11000/O0-M014 | B38: CURVA 90°DE F°F°COM FLANGES (C90°FF10), DN 150 MM | E38: UN | F38: =SUM(F39) -> 558.07143
A39: V0000005 | B39: CURVA 90°DE F°F°(C90°FF10), DN 150 MM | C39: UN | D39: 1 | E39: =COTAÇÕES!BW10 -> 558.07143 | F39: =E39*D39 -> 558.07143
A40: Regulamentação: Descrição do Serviço: CURVA 90°DE F°F° COM FLANGES ( C90°FF10 ), DN 150 MM - FORNECIMENTO À CARGO DA EMPREITEIRA Critério de Medição: POR UNIDADE, EM COMUM ACORDO COM FISCALIZAÇÃO
...

Sheet COTAÇÕES
A1: N° Item | B1: Cód. Produto | C1: Descrição Produto | D1: Unidade | E1: Quantidade | J1: ALLEGRINI GRADES | M1: Só Portas e Janelas | O1: Parana Steel | Q1: RUBBER PLASTIC | Z1: Imake | AD1: Mangueflex | AE1: Dax | AJ1: Molyplast | AO1: Ilitalia | AP1: Muito | AQ1: Mundial | AR1: Conecões Catarinense | AS1: KING TALHAS | AT1: RM FERRAMENTAS | AU1: PP Pumping e Plumbing | AV1: VIGO VALVULAS | AW1: AQUA PLASTIC | AX1: JV TUBOS E ACADEMICOS LTDA | AY1: AC CAETANO | BB1: Caetano | BC1: Cia da Borracha | BD1: estruturas do Vale | BE1: MC Produtos | BF1: LCB Saneamento LTDA. | BG1: Tresmacol | BH1: Ferpam | BI1: Aerodinâmica | BJ1: Am1 Negocios e Servios LTDA | BK1: Sanecon Comercio de Tubos e Conexoes LTDA | BL1: Salvati Export Pipes Tubos e Conexoes LTDA | BM1: Tubcon Tubos e conexoes, Distribuicao e Servicos LTDA | BN1: Star Fortes Comercio, Industria e Apoio Administrativo LTDA | BO1: Hidraulica Sao Paulo Comercio de Materiais de Construcao LTDA | BP1: PB Representaçoes | BQ1: Policaçambas | BR1: Mirassol implementos | BS1: PAMCORE | BT1: COMERCIAL LANEL | BU1: Construmaq | BV1: Media | BW1: Mediana
F2: ATX | G2: GS ESTRUTURA METÁLICAS | H2: SAN | I2: ESQUADRI FLEX | K2: CIA DO ALUMINIO | L2: PORTO | N2: NETZSCH | P2: MADS | R2: MANGLOG | S2: GARDEN | T2: CONEXÃO PEÇAS | U2: PONTO DO ENCANADOR | V2: SANEFLUI | W2: MESTREHIDRO | X2: bilcom | Y2: VIA ANEAMENTO | AA2: 911 emergencia | AC2: TRNSBOR | AF2: OLIPLAS | AG2: MANGLOG | AH2: TOP HIDRAULIC | AI2: REI DAS MANGUEIRAS | AK2: COREMMA | AL2: MARERCON | AM2: PHELPS | AN2: BORTÔ | AZ2: HB | BA2: SHIVA
A3: 3 | C3: ARRUELA C/ BORRACHA (ABMF), DN 150 MM | D3: UN | E3: 1 | BB3: 73.43 | BC3: 12 | BP3: 126 | BS3: 79.12 | BV3: =AVERAGE(F3:BU3) -> 72.6375 | BW3: =MEDIAN(F3:BV3) -> 73.43
A4: 1 | C4: ARRUELA C/ BORRACHA ( ABMF ), DN 400 MM | D4: UN | E4: 1 | V4: 64.79 | X4: 53.94 | BC4: 59 | BV4: =AVERAGE(F4:BU4) -> 59.243333 | BW4: =MEDIAN(F4:BV4) -> 59.121667
A5: 2 | C5: ARRUELA C/ BORRACHA (ABMF), DN 100 MM | D5: UN | E5: 1 | BB5: 56.01 | BC5: 7.9 | BP5: 95 | BS5: 60.46 | BV5: =AVERAGE(F5:BU5) -> 54.8425 | BW5: =MEDIAN(F5:BV5) -> 56.01
A6: 4 | C6: CABEÇOTE (CAB) - EURO 300/350/400 MM | D6: UN | E6: 1 | Y6: 290 | AA6: 352 | BP6: 180 | BV6: =AVERAGE(F6:BU6) -> 274 | BW6: =MEDIAN(F6:BV6) -> 282
C7: CAÇAMBA ESTACIONÁRIA, CAPACIDADE DE 5 M3 | D7: UN | E7: 1 | BQ7: 5000 | BR7: 6400 | BU7: 7100 | BV7: =AVERAGE(F7:BU7) -> 6166.6667 | BW7: =MEDIAN(F7:BV7) -> 6283.3333
A8: 7 | C8: CONJUNTO MOTOBOMBA SUBMERSA, POT. 7,5 KW | D8: UN | E8: 1 | N8: 32510 | AZ8: 25900 | BT8: 39554 | BV8: =AVERAGE(F8:BU8) -> 32654.667 | BW8: =MEDIAN(F8:BV8) -> 32582.333
A9: 10 | C9: CURVA 90°DE F°F°(C90°FF10), DN 100 MM | D9: UN | E9: 1 | BE9: 486.67 | BF9: 545.18 | BK9: 228 | BN9: 348 | BO9: 399 | BP9: 551 | BS9: 380.24 | BV9: =AVERAGE(F9:BU9) -> 419.72714 | BW9: =MEDIAN(F9:BV9) -> 409.36357
A10: 9 | C10: CURVA 90°DE F°F°(C90°FF10), DN 150 MM | D10: UN | E10: 1 | BE10: 788.74 | BF10: 883.56 | BK10: 399.5 | BL10: 420 | BM10: 489 | BP10: 893 | BS10: 492.4 | BV10: =AVERAGE(F10:BU10) -> 623.74286 | BW10: =MEDIAN(F10:BV10) -> 558.07143
A11: 8 | C11: CURVA 90°DE F°F°(C90°FF10), DN 400 MM | D11: UN | E11: 1 | BE11: 5572.37 | BF11: 7744 | BP11: 5460 | BS11: 10418.75 | BV11: =AVERAGE(F11:BU11) -> 7298.78 | BW11: =MEDIAN(F11:BV11) -> 7298.78
A12: 11 | C12: CURVA 90°DE F°F°, (C90°JGS), DN 400 MM | D12: UN | E12: 1 | BE12: 3143.46 | BF12: 3748.54 | BP12: 3480 | BS12: 8466.88 | BV12: =AVERAGE(F12:BU12) -> 4709.72 | BW12: =MEDIAN(F12:BV12) -> 3748.54
A13: 12 | C13: ESCADA METÁLICA MÓVEL, CONFORME PROJETO | D13: Un | E13: 1 | G13: 5930 | H13: 7390 | O13: 2500 | BD13: 1700 | BV13: =AVERAGE(F13:BU13) -> 4380 | BW13: =MEDIAN(F13:BV13) -> 4380
A14: 13 | C14: ESPIGÃO MACHO E FÊMEA, COM ROSCA,Ø 1.1/4 | D14: UN | E14: 1 | Q14: 72 | R14: 75 | S14: 58.58 | T14: 72.82 | BV14: =AVERAGE(F14:BU14) -> 69.6 | BW14: =MEDIAN(F14:BV14) -> 72
A15: 26 | C15: ESPIGÃO MACHO E FÊMEA, COM ROSCA,Ø 1.1/4 | D15: UM | E15: 1 | Q15: 72 | R15: 75 | S15: 58.58 | T15: 72.82 | BV15: =AVERAGE(F15:BU15) -> 69.6 | BW15: =MEDIAN(F15:BV15) -> 72
A16: 30 | C16: ESPIGÃO MACHO E FÊMEA, Ø 1/2" | D16: UN | E16: 1 | Q16: 22.3 | R16: 18 | S16: 17.74 | T16: 16.91 | BV16: =AVERAGE(F16:BU16) -> 18.7375 | BW16: =MEDIAN(F16:BV16) -> 18
A17: 33 | C17: ESPIGÃO MACHO E FÊMEA, Ø 3/4" | D17: UN | E17: 1 | Q17: 32 | R17: 25 | S17: 24.43 | T17: 26.06 | BV17: =AVERAGE(F17:BU17) -> 26.8725 | BW17: =MEDIAN(F17:BV17) -> 26.06
A18: 13 | C18: ESPIGÃO MACHO E FÊMEA, ROSCA, Ø 2.1/2" | D18: UN | E18: 1 | P18: 213 | Q18: 227 | R18: 230 | BV18: =AVERAGE(F18:BU18) -> 223.33333 | BW18: =MEDIAN(F18:BV18) -> 225.16667
A19: 14 | C19: ESQUADRIAS DE ALUMÍNIO COM TELA ONDULADA | D19: UN | E19: 1 | F19: 260 | I19: 650 | J19: 482.4 | BV19: =AVERAGE(F19:BU19) -> 464.13333 | BW19: =MEDIAN(F19:BV19) -> 473.26667
A20: 15 | C20: ESQUADRIAS DE ALUMÍNIO COM TELA ONDULADA | D20: UN | E20: 1 | F20: 260 | I20: 650 | J20: 482.4 | BV20: =AVERAGE(F20:BU20) -> 464.13333 | BW20: =MEDIAN(F20:BV20) -> 473.26667
A21: 17 | C21: FLANGE LIVRE DE PVC, SOLDÁVEL, DE 100 MM | D21: UN | E21: 1 | AO21: 179 | AR21: 159.6 | AU21: 280 | BA21: 293.93 | BV21: =AVERAGE(F21:BU21) -> 228.1325 | BW21: =MEDIAN(F21:BV21) -> 228.1325
A22: 25 | C22: FLANGE LIVRE DE PVC, SOLDÁVEL, DE 60 MM | D22: UN | E22: 1 | AL22: 185 | AO22: 94.5 | AR22: 112.64 | AU22: 70 | BA22: 160 | BV22: =AVERAGE(F22:BU22) -> 124.428 | BW22: =MEDIAN(F22:BV22) -> 118.534
A23: 29 | C23: FLANGE LIVRE DE PVC, SOLDÁVEL, DE 60 MM | D23: UN | E23: 1 | AL23: 185 | AO23: 94.5 | AR23: 112.64 | AU23: 70 | BA23: 160 | BV23: =AVERAGE(F23:BU23) -> 124.428 | BW23: =MEDIAN(F23:BV23) -> 118.534
A24: 45 | C24: FLANGE LIVRE DE PVC, SOLDÁVEL, DE 60 MM | D24: UN | E24: 1 | AL24: 185 | AO24: 94.5 | AR24: 112.64 | AU24: 70 | BA24: 160 | BV24: =AVERAGE(F24:BU24) -> 124.428 | BW24: =MEDIAN(F24:BV24) -> 118.534
A25: 49 | C25: FLANGE LIVRE DE PVC, SOLDÁVEL, DE 60 MM | D25: UN | E25: 1 | AL25: 185 | AO25: 94.5 | AR25: 112.64 | AU25: 70 | BA25: 160 | BV25: =AVERAGE(F25:BU25) -> 124.428 | BW25: =MEDIAN(F25:BV25) -> 118.534
A26: 23 | C26: FLANGE LIVRE DE PVC, SOLDÁVEL, DE 75 MM | D26: UM | E26: 1 | AO26: 107.5 | AR26: 111.57 | AU26: 130 | BA26: 183.29 | BV26: =AVERAGE(F26:BU26) -> 133.09 | BW26: =MEDIAN(F26:BV26) -> 130
A27: 20 | C27: FLANGE LIVRE DE PVC, SOLDÁVEL, DE 85 MM | D27: UN | E27: 1 | AO27: 125 | AR27: 116.89 | AU27: 160 | BA27: 209 | BV27: =AVERAGE(F27:BU27) -> 152.7225 | BW27: =MEDIAN(F27:BV27) -> 152.7225
A28: 44 | C28: FLANGE LIVRE DE PVC, SOLDÁVEL, DE 85 MM | D28: UN | E28: 1 | AO28: 125 | AR28: 116.89 | AU28: 160 | BA28: 209 | BV28: =AVERAGE(F28:BU28) -> 152.7225 | BW28: =MEDIAN(F28:BV28) -> 152.7225
A29: 36 | C29: LUVA DE F°F°, COM BOLSAS, (LJGS), DN 100 | D29: UN | E29: 1 | BF29: 369.36 | BP29: 310 | BS29: 418.5 | BV29: =AVERAGE(F29:BU29) -> 365.95333 | BW29: =MEDIAN(F29:BV29) -> 367.65667
A30: 21 | C30: MANGUEIRA DE PVC FLEXÍVEL, Ø 1.1/4" - 4 METROS | D30: UN | E30: 1 | AD30: 104.88 | AE30: 104.4 | AG30: 96 | AH30: 300.28 | AJ30: 108 | BV30: =AVERAGE(F30:BU30) -> 142.712 | BW30: =MEDIAN(F30:BV30) -> 106.44
A31: 27 | C31: MANGUEIRA DE PVC FLEXÍVEL, Ø 1.1/4"- 4 METROS | D31: UN | E31: 1 | AD31: 104.88 | AE31: 104.4 | AG31: 96 | AH31: 300.28 | AJ31: 108 | BV31: =AVERAGE(F31:BU31) -> 142.712 | BW31: =MEDIAN(F31:BV31) -> 106.44
A32: 31 | C32: MANGUEIRA DE PVC FLEXÍVEL, Ø 1/2"- 2 METROS | D32: UN | E32: 1 | AD32: 14 | AE32: 13.06 | AH32: 49.9 | AI32: 12.6 | AJ32: 23.8 | BV32: =AVERAGE(F32:BU32) -> 22.672 | BW32: =MEDIAN(F32:BV32) -> 18.336
A33: 34 | C33: MANGUEIRA DE PVC FLEXÍVEL, Ø 3/4" 2 METROS | D33: UN | E33: 1 | AD33: 20.36 | AE33: 27.9 | AF33: 26.14 | AI33: 19.2 | AJ33: 29.6 | BV33: =AVERAGE(F33:BU33) -> 24.64 | BW33: =MEDIAN(F33:BV33) -> 25.39
A34: 35 | C34: MANGUEIRA DE PVC FLEXÍVEL, REF. Ø 2.1/2 -1 METRO | D34: UN | E34: 1 | AC34: 190 | AE34: 43.89 | AH34: 239.46 | BV34: =AVERAGE(F34:BU34) -> 157.78333 | BW34: =MEDIAN(F34:BV34) -> 173.89167
A35: 38 | C35: PARAFUSO COM PORCA (PPFIQ), Ø 16 X 80 | D35: UN | E35: 1 | AY35: 19.2 | BP35: 8.6 | BS35: 10.77 | BV35: =AVERAGE(F35:BU35) -> 12.856667 | BW35: =MEDIAN(F35:BV35) -> 11.813333
A36: 39 | C36: PARAFUSO COM PORCA (PPFIQ), Ø 20 X 90 | D36: UN | E36: 1 | AY36: 31.2 | BP36: 15.2 | BS36: 18.14 | BV36: =AVERAGE(F36:BU36) -> 21.513333 | BW36: =MEDIAN(F36:BV36) -> 19.826667
A37: 40 | C37: PARAFUSO COM PORCA (PPFIQ10), Ø 24 X 110 | D37: UN | E37: 1 | AY37: 42.44 | BP37: 25 | BS37: 41.5 | BV37: =AVERAGE(F37:BU37) -> 36.313333 | BW37: =MEDIAN(F37:BV37) -> 38.906667
A38: 41 | C38: PORTA COMPLETA EM CHAPA DE AÇO, DE ABRIR | D38: UN | E38: 1 | K38: 2862.02 | L38: 1688 | M38: 1810.53 | BV38: =AVERAGE(F38:BU38) -> 2120.1833 | BW38: =MEDIAN(F38:BV38) -> 1965.3567
A39: 42 | C39: REGISTRO DE F°F°, ( R23FC10 ), DN 400 | D39: UN | E39: 1 | AX39: 27845 | BF39: 16937.8 | BP39: 10466 | BV39: =AVERAGE(F39:BU39) -> 18416.267 | BW39: =MEDIAN(F39:BV39) -> 17677.033
A40: 43 | C40: REGISTRO DE GAVETA F°F°(R23FV10), DN100 | D40: UN | E40: 1 | AX40: 1271 | BF40: 1892 | BP40: 1160 | BV40: =AVERAGE(F40:BU40) -> 1441 | BW40: =MEDIAN(F40:BV40) -> 1356
...
